BEGIN:VCALENDAR
VERSION:2.0
PRODID:-//ActiveBury//Events//EN
CALSCALE:GREGORIAN
BEGIN:VEVENT
UID:event-1348@activebury.com
DTSTAMP:20260425T133417Z
SUMMARY:Perler Bead Flower Power
DTSTART:20260330T173000
DTEND:20260330T183000
LOCATION:Centre Branch
DESCRIPTION:This event is in the "Ages 12-18" group This event is in the "Ages 18+" group 5:30pm–6:30pm Ages 12-18\, Ages 18+ Centre Branch Open Registration Available This event is in the "Ages 12-18" group This event is in the "Ages 18+" group Mar 30 2026 Mon Perler Bead Flower Power 5:30pm–6:30pm Centre Branch Open Centre Branch The Space at Centre Ages 12-18 \, Ages 18+ Arts and Crafts \, Class or Workshop Registration Available Start the Spring by making a set of flower coasters! Each month we will make a new flower out of perler beads\, to add to your coaster set! Registration is required\, but attendance at each event is up to you!\nMore info: https://www.wicomicolibrary.org/event/perler-bead-flower-power-23017\nActiveBury: https://www.activebury.com/events/1348
URL:https://www.activebury.com/events/1348
END:VEVENT
END:VCALENDAR
