BEGIN:VCALENDAR
VERSION:2.0
PRODID:-//ActiveBury//Events//EN
CALSCALE:GREGORIAN
BEGIN:VEVENT
UID:event-1347@activebury.com
DTSTAMP:20260425T134003Z
SUMMARY:Movies & Meaning Club
DTSTART:20260328T130000
DTEND:20260328T143000
LOCATION:Paul S. Sarbanes Branch
DESCRIPTION:This event is in the "Ages 18+" group 1:00pm–2:30pm Ages 18+ Paul S. Sarbanes Branch Open Registration Available This event is in the "Ages 18+" group Mar 28 2026 Sat Movies & Meaning Club 1:00pm–2:30pm Paul S. Sarbanes Branch Open Paul S. Sarbanes Branch STEAM Studio Ages 18+ Class or Workshop \, Movie Registration Available If you love movies and enjoy talking about them with others\, we invite you to join us for the first-ever Movies and Meaning Club at Wicomico Public Library. We’ll take an informal approach to discussing movie\nMore info: https://www.wicomicolibrary.org/event/movies-meaning-club-23141\nActiveBury: https://www.activebury.com/events/1347
URL:https://www.activebury.com/events/1347
END:VEVENT
END:VCALENDAR
