BEGIN:VCALENDAR
VERSION:2.0
PRODID:-//ActiveBury//Events//EN
CALSCALE:GREGORIAN
BEGIN:VEVENT
UID:event-1346@activebury.com
DTSTAMP:20260425T133902Z
SUMMARY:Beauty In the Stain
DTSTART:20260326T163000
DTEND:20260326T183000
LOCATION:Centre Branch
DESCRIPTION:This event is in the "Ages 12-18" group This event is in the "Ages 18+" group 4:30pm–6:30pm Ages 12-18\, Ages 18+ Centre Branch Closed Registration Available This event is in the "Ages 12-18" group This event is in the "Ages 18+" group Mar 26 2026 Thu Beauty In the Stain 4:30pm–6:30pm Centre Branch Closed Please note you are looking at an event that has already happened. Centre Branch The Space at Centre Ages 12-18 \, Ages 18+ Arts and Crafts \, Class or Workshop Registration Available Using everyday items like coffee filters and rubbing alcohol to create an interesting type of art piece with a unique look without the use of acrylic paint\nMore info: https://www.wicomicolibrary.org/event/beauty-stain-23138\nActiveBury: https://www.activebury.com/events/1346
URL:https://www.activebury.com/events/1346
END:VEVENT
END:VCALENDAR
