BEGIN:VCALENDAR
VERSION:2.0
PRODID:-//ActiveBury//Events//EN
CALSCALE:GREGORIAN
BEGIN:VEVENT
UID:event-1343@activebury.com
DTSTAMP:20260425T183405Z
SUMMARY:T(w)een Anime Club
DTSTART:20260325T163000
DTEND:20260325T173000
LOCATION:Pittsville Branch
DESCRIPTION:This event is in the "Ages 12-18" group Cancelled 4:30pm–5:30pm Ages 12-18 Pittsville Branch This event is in the "Ages 12-18" group Mar 25 2026 Wed Cancelled T(w)een Anime Club 4:30pm–5:30pm Pittsville Branch Pittsville Branch Ages 12-18 A library club for t(w)eens\, meeting weekly to discuss what they are reading/watching\; watch episodes of anime\; play anime-related games\, participate in anime-related activities\; earn prizes\, etc.\nMore info: https://www.wicomicolibrary.org/event/tween-anime-club-23124\nActiveBury: https://www.activebury.com/events/1343
URL:https://www.activebury.com/events/1343
END:VEVENT
END:VCALENDAR
