BEGIN:VCALENDAR
VERSION:2.0
PRODID:-//ActiveBury//Events//EN
CALSCALE:GREGORIAN
BEGIN:VEVENT
UID:event-1341@activebury.com
DTSTAMP:20260425T133842Z
SUMMARY:America’s Failed Response to the Opioid Crisis with Author Shoshana Walter
DTSTART:20260324T140000
DTEND:20260324T150000
LOCATION:Virtual
DESCRIPTION:This event is in the "Ages 18+" group 2:00pm–3:00pm Ages 18+ Virtual Virtual Event This event is in the "Ages 18+" group Mar 24 2026 Tue America’s Failed Response to the Opioid Crisis with Author Shoshana Walter 2:00pm–3:00pm Virtual Please note you are looking at an event that has already happened. Virtual Ages 18+ Book Discussion \, Guest Speaker or Performance \, Virtual Author Talk Join us for a special conversation between award-winning journalist Shoshana Walter and bestselling and award-winning author Barbara Kingsolver as they chat about Walter’s book Rehab: An American Scandal .\nMore info: https://www.wicomicolibrary.org/event/americas-failed-response-opioid-crisis-author-shoshana-walter-23326\nActiveBury: https://www.activebury.com/events/1341
URL:https://www.activebury.com/events/1341
END:VEVENT
END:VCALENDAR
