BEGIN:VCALENDAR
VERSION:2.0
PRODID:-//ActiveBury//Events//EN
CALSCALE:GREGORIAN
BEGIN:VEVENT
UID:event-1339@activebury.com
DTSTAMP:20260425T134254Z
SUMMARY:"For the Record" Music Club
DTSTART:20260321T150000
DTEND:20260321T163000
LOCATION:Centre Branch
DESCRIPTION:This event is in the "Ages 18+" group 3:00pm–4:30pm Ages 18+ Centre Branch Closed Registration Available This event is in the "Ages 18+" group Mar 21 2026 Sat "For the Record" Music Club 3:00pm–4:30pm Centre Branch Closed Please note you are looking at an event that has already happened. Centre Branch The Space at Centre Ages 18+ Other Registration Available Check out the "Centre" for music! Update your music library at our new monthly music listening club\, “For the Record\,” where attendees will share songs\, music videos\, and more to play.\nMore info: https://www.wicomicolibrary.org/event/record-music-club-23020\nActiveBury: https://www.activebury.com/events/1339
URL:https://www.activebury.com/events/1339
END:VEVENT
END:VCALENDAR
