BEGIN:VCALENDAR
VERSION:2.0
PRODID:-//ActiveBury//Events//EN
CALSCALE:GREGORIAN
BEGIN:VEVENT
UID:event-1336@activebury.com
DTSTAMP:20260425T133945Z
SUMMARY:Build a St. Patrick's Day Mobile
DTSTART:20260316T170000
DTEND:20260316T183000
LOCATION:Centre Branch
DESCRIPTION:This event is in the "Ages 6-11" group 5:00pm–6:30pm Ages 6-11 Centre Branch Closed Registration Available This event is in the "Ages 6-11" group Mar 16 2026 Mon Build a St. Patrick's Day Mobile 5:00pm–6:30pm Centre Branch Closed Please note you are looking at an event that has already happened. Centre Branch The Storybook Room Ages 6-11 Arts and Crafts Registration Available Come celebrate St. Patty's Day with us by building your own rainbow to a Pot of Gold as a mobile! Registration Required as space and supplies are limited.\nMore info: https://www.wicomicolibrary.org/event/build-st-patricks-day-mobile-23188\nActiveBury: https://www.activebury.com/events/1336
URL:https://www.activebury.com/events/1336
END:VEVENT
END:VCALENDAR
