BEGIN:VCALENDAR
VERSION:2.0
PRODID:-//ActiveBury//Events//EN
CALSCALE:GREGORIAN
BEGIN:VEVENT
UID:event-1333@activebury.com
DTSTAMP:20260425T133323Z
SUMMARY:Booked for the Weekend
DTSTART:20260314T103000
DTEND:20260314T113000
LOCATION:Paul S. Sarbanes Branch
DESCRIPTION:This event is in the "Ages 18+" group 10:30am–11:30am Ages 18+ Paul S. Sarbanes Branch Closed Registration Available This event is in the "Ages 18+" group Mar 14 2026 Sat Booked for the Weekend 10:30am–11:30am Paul S. Sarbanes Branch Closed Please note you are looking at an event that has already happened. Paul S. Sarbanes Branch Room 4 Ages 18+ Book Discussion Registration Available Welcome to Booked for the Weekend! This book club features one title per month with selections from a variety of genres and authors.\nMore info: https://www.wicomicolibrary.org/event/booked-weekend-21405\nActiveBury: https://www.activebury.com/events/1333
URL:https://www.activebury.com/events/1333
END:VEVENT
END:VCALENDAR
