BEGIN:VCALENDAR
VERSION:2.0
PRODID:-//ActiveBury//Events//EN
CALSCALE:GREGORIAN
BEGIN:VEVENT
UID:event-1332@activebury.com
DTSTAMP:20260425T133417Z
SUMMARY:VR Demo Day - Session 1
DTSTART:20260314T100000
DTEND:20260314T104500
LOCATION:Off Site
DESCRIPTION:This event is in the "Ages 12-18" group This event is in the "Ages 18+" group 10:00am–10:45am Ages 12-18\, Ages 18+ Off Site Closed Registration Available Offsite Event This event is in the "Ages 12-18" group This event is in the "Ages 18+" group Mar 14 2026 Sat VR Demo Day - Session 1 10:00am–10:45am Off Site Closed Please note you are looking at an event that has already happened. Off Site Ages 12-18 \, Ages 18+ Games Registration Available Come step into virtual worlds with our VR headset program! Participants will get to enjoy using VR Headsets with interactive games and experiences. All equipment will be provided with no experience needed! Come discover the joys\nMore info: https://www.wicomicolibrary.org/event/vr-headset-program-session-1-22674\nActiveBury: https://www.activebury.com/events/1332
URL:https://www.activebury.com/events/1332
END:VEVENT
END:VCALENDAR
