BEGIN:VCALENDAR
VERSION:2.0
PRODID:-//ActiveBury//Events//EN
CALSCALE:GREGORIAN
BEGIN:VEVENT
UID:event-1331@activebury.com
DTSTAMP:20260425T133953Z
SUMMARY:Book Portals and Journeys of Literary Magic with Kate Quinn
DTSTART:20260312T190000
DTEND:20260312T200000
LOCATION:Virtual
DESCRIPTION:This event is in the "Ages 18+" group 7:00pm–8:00pm Ages 18+ Virtual Virtual Event This event is in the "Ages 18+" group Mar 12 2026 Thu Book Portals and Journeys of Literary Magic with Kate Quinn 7:00pm–8:00pm Virtual Please note you are looking at an event that has already happened. Virtual Ages 18+ Book Discussion \, Guest Speaker or Performance \, Virtual Author Talk You’re invited to join us for a virtual conversation with acclaimed author Kate Quinn about her latest fantastical work\, The Astral Library \, which poses the question: Have you ever wished you could live inside a book?\nMore info: https://www.wicomicolibrary.org/event/book-portals-and-journeys-literary-magic-kate-quinn-23325\nActiveBury: https://www.activebury.com/events/1331
URL:https://www.activebury.com/events/1331
END:VEVENT
END:VCALENDAR
