BEGIN:VCALENDAR
VERSION:2.0
PRODID:-//ActiveBury//Events//EN
CALSCALE:GREGORIAN
BEGIN:VEVENT
UID:event-1329@activebury.com
DTSTAMP:20260425T154129Z
SUMMARY:Chapter Chats: Teen Book Club
DTSTART:20260310T163000
DTEND:20260310T183000
LOCATION:Centre Branch
DESCRIPTION:This event is in the "Ages 12-18" group 4:30pm–6:30pm Ages 12-18 Centre Branch Closed Registration Available This event is in the "Ages 12-18" group Mar 10 2026 Tue Chapter Chats: Teen Book Club 4:30pm–6:30pm Centre Branch Closed Please note you are looking at an event that has already happened. Centre Branch The Space at Centre Ages 12-18 Book Discussion Registration Available Come join us as we explore fantasy and fiction in our Chapter Chats Teen Book Club! Bring your thoughts and feelings to this program and express them in a safe and welcoming environment\, and bring your questions too!\nMore info: https://www.wicomicolibrary.org/event/chapter-chats-teen-book-club-23176\nActiveBury: https://www.activebury.com/events/1329
URL:https://www.activebury.com/events/1329
END:VEVENT
END:VCALENDAR
