BEGIN:VCALENDAR
VERSION:2.0
PRODID:-//ActiveBury//Events//EN
CALSCALE:GREGORIAN
BEGIN:VEVENT
UID:event-1327@activebury.com
DTSTAMP:20260425T133439Z
SUMMARY:Scratch Art
DTSTART:20260309T170000
DTEND:20260309T183000
LOCATION:Centre Branch
DESCRIPTION:This event is in the "Ages 18+" group 5:00pm–6:30pm Ages 18+ Centre Branch Closed Registration Available This event is in the "Ages 18+" group Mar 9 2026 Mon Scratch Art 5:00pm–6:30pm Centre Branch Closed Please note you are looking at an event that has already happened. Centre Branch The Space at Centre Ages 18+ Arts and Crafts Registration Available Join us as we learn the relaxing\, stress-free activity that is Scratch Art Therapy. Scratch Art is the process of "scratching" away a gray surface to unveil a beautiful piece of art you can take home and display. All supplies will be provided.\nMore info: https://www.wicomicolibrary.org/event/scratch-art-23182\nActiveBury: https://www.activebury.com/events/1327
URL:https://www.activebury.com/events/1327
END:VEVENT
END:VCALENDAR
