BEGIN:VCALENDAR
VERSION:2.0
PRODID:-//ActiveBury//Events//EN
CALSCALE:GREGORIAN
BEGIN:VEVENT
UID:event-1325@activebury.com
DTSTAMP:20260425T133423Z
SUMMARY:Dr. Seuss Storytime
DTSTART:20260307T110000
DTEND:20260307T123000
LOCATION:Paul S. Sarbanes Branch
DESCRIPTION:This event is in the "Ages 0-5" group 11:00am–12:30pm Ages 0-5 Paul S. Sarbanes Branch This event is in the "Ages 0-5" group Mar 7 2026 Sat Dr. Seuss Storytime 11:00am–12:30pm Paul S. Sarbanes Branch Please note you are looking at an event that has already happened. Paul S. Sarbanes Branch Children's Main Floor Ages 0-5 Special Events \, Storytime Join the Salisbury Jaycees for a special Dr. Seuss–themed storytime at the Sarbanes Branch as part of Read Across America! (s) Attending Children Children under 8 must be monitored by a guardian who is at least 13 years old to assure the safety and behavior of that child. Children ages 8 and older may visit the library independently provided they are able to care for themselves and are able to understand and follow the Library’s Behavior Guideline\nMore info: https://www.wicomicolibrary.org/event/dr-seuss-storytime-23693\nActiveBury: https://www.activebury.com/events/1325
URL:https://www.activebury.com/events/1325
END:VEVENT
END:VCALENDAR
