BEGIN:VCALENDAR
VERSION:2.0
PRODID:-//ActiveBury//Events//EN
CALSCALE:GREGORIAN
BEGIN:VEVENT
UID:event-1324@activebury.com
DTSTAMP:20260425T133437Z
SUMMARY:Puzzle Power Hour
DTSTART:20260304T173000
DTEND:20260304T183000
LOCATION:Centre Branch
DESCRIPTION:This event is in the "Ages 18+" group 5:30pm–6:30pm Ages 18+ Centre Branch This event is in the "Ages 18+" group Mar 4 2026 Wed Puzzle Power Hour 5:30pm–6:30pm Centre Branch Please note you are looking at an event that has already happened. Centre Branch The Space at Centre Ages 18+ Games Come relax at the Centre Branch by jumping in with a puzzle hour!\nMore info: https://www.wicomicolibrary.org/event/puzzle-power-hour-23001\nActiveBury: https://www.activebury.com/events/1324
URL:https://www.activebury.com/events/1324
END:VEVENT
END:VCALENDAR
