BEGIN:VCALENDAR
VERSION:2.0
PRODID:-//ActiveBury//Events//EN
CALSCALE:GREGORIAN
BEGIN:VEVENT
UID:event-1323@activebury.com
DTSTAMP:20260425T134001Z
SUMMARY:Humor\, Heart\, and Reflective Rural Stories with Michael Perry
DTSTART:20260304T140000
DTEND:20260304T150000
LOCATION:Virtual
DESCRIPTION:This event is in the "Ages 18+" group 2:00pm–3:00pm Ages 18+ Virtual Virtual Event This event is in the "Ages 18+" group Mar 4 2026 Wed Humor\, Heart\, and Reflective Rural Stories with Michael Perry 2:00pm–3:00pm Virtual Please note you are looking at an event that has already happened. Virtual Ages 18+ Book Discussion \, Guest Speaker or Performance \, Virtual Author Talk Join us in conversation with bestselling author and humorist Michael Perry\, whose collection of genre-spanning works encapsulates the experiences–and the magic–of rural town communities and the everyday people who reside in them.\nMore info: https://www.wicomicolibrary.org/event/humor-heart-and-reflective-rural-stories-michael-perry-23324\nActiveBury: https://www.activebury.com/events/1323
URL:https://www.activebury.com/events/1323
END:VEVENT
END:VCALENDAR
