BEGIN:VCALENDAR
VERSION:2.0
PRODID:-//ActiveBury//Events//EN
CALSCALE:GREGORIAN
BEGIN:VEVENT
UID:event-1321@activebury.com
DTSTAMP:20260425T133747Z
SUMMARY:Smithson’s Gamble: The Incredible History Behind the World’s Largest Museum with Smithsonian Curator Emeritus Tom Crouch
DTSTART:20260224T140000
DTEND:20260224T150000
LOCATION:Virtual
DESCRIPTION:This event is in the "Ages 18+" group 2:00pm–3:00pm Ages 18+ Virtual Virtual Event This event is in the "Ages 18+" group Feb 24 2026 Tue Smithson’s Gamble: The Incredible History Behind the World’s Largest Museum with Smithsonian Curator Emeritus Tom Crouch 2:00pm–3:00pm Virtual Please note you are looking at an event that has already happened. Virtual Ages 18+ Book Discussion \, Guest Speaker or Performance \, Virtual Author Talk Tom D. Crouch\, a Smithsonian veteran of almost 45 years\, paints a robust picture of a unique American establishment and its lasting legacies in his book Smithson’s Gamble .\nMore info: https://www.wicomicolibrary.org/event/smithsons-gamble-incredible-history-behind-worlds-largest-museum-smithsonian-curator-emeritus\nActiveBury: https://www.activebury.com/events/1321
URL:https://www.activebury.com/events/1321
END:VEVENT
END:VCALENDAR
