BEGIN:VCALENDAR
VERSION:2.0
PRODID:-//ActiveBury//Events//EN
CALSCALE:GREGORIAN
BEGIN:VEVENT
UID:event-1320@activebury.com
DTSTAMP:20260425T153446Z
SUMMARY:Reentry Assistance Event
DTSTART:20260223T110000
DTEND:20260223T140000
LOCATION:Paul S. Sarbanes Branch
DESCRIPTION:This event is in the "Ages 18+" group 11:00am–2:00pm Ages 18+ Paul S. Sarbanes Branch This event is in the "Ages 18+" group Feb 23 2026 Mon Reentry Assistance Event 11:00am–2:00pm Paul S. Sarbanes Branch Please note you are looking at an event that has already happened. Paul S. Sarbanes Branch Children's Main Floor Ages 18+ Other Join us for a welcoming\, community-focused event designed to connect individuals with valuable resources\, services\, and support for a successful transition back into the community. Attendees can learn about:\nMore info: https://www.wicomicolibrary.org/event/reentry-assistance-event-23776\nActiveBury: https://www.activebury.com/events/1320
URL:https://www.activebury.com/events/1320
END:VEVENT
END:VCALENDAR
