BEGIN:VCALENDAR
VERSION:2.0
PRODID:-//ActiveBury//Events//EN
CALSCALE:GREGORIAN
BEGIN:VEVENT
UID:event-1319@activebury.com
DTSTAMP:20260425T133422Z
SUMMARY:Author Event: Iris Wright-Hart
DTSTART:20260221T140000
DTEND:20260221T164500
LOCATION:Paul S. Sarbanes Branch
DESCRIPTION:This event is in the "Ages 18+" group 2:00pm–4:45pm Ages 18+ Paul S. Sarbanes Branch Closed Registration Available This event is in the "Ages 18+" group Feb 21 2026 Sat Author Event: Iris Wright-Hart 2:00pm–4:45pm Paul S. Sarbanes Branch Closed Please note you are looking at an event that has already happened. Paul S. Sarbanes Branch Ages 18+ Book Discussion \, Guest Speaker or Performance Registration Available Meet Iris Wright-Hart\, author of Nobody's Listening to Me--If Only They Could C Me. Ms. Wright-Hart will read from the book. Bring your questions and have your copy signed! Copies of the book will also be available for purchase.\nMore info: https://www.wicomicolibrary.org/event/author-event-iris-wright-hart-22417\nActiveBury: https://www.activebury.com/events/1319
URL:https://www.activebury.com/events/1319
END:VEVENT
END:VCALENDAR
