BEGIN:VCALENDAR
VERSION:2.0
PRODID:-//ActiveBury//Events//EN
CALSCALE:GREGORIAN
BEGIN:VEVENT
UID:event-1318@activebury.com
DTSTAMP:20260425T133941Z
SUMMARY:Wicomico County Health Department Safe Storage Event
DTSTART:20260221T100000
DTEND:20260221T130000
LOCATION:Paul S. Sarbanes Branch
DESCRIPTION:This event is in the "Ages 18+" group 10:00am–1:00pm Ages 18+ Paul S. Sarbanes Branch This event is in the "Ages 18+" group Feb 21 2026 Sat Wicomico County Health Department Safe Storage Event 10:00am–1:00pm Paul S. Sarbanes Branch Please note you are looking at an event that has already happened. Paul S. Sarbanes Branch Children's Main Floor Ages 18+ Other\nMore info: https://www.wicomicolibrary.org/event/wicomico-county-health-department-safe-storage-event-23765\nActiveBury: https://www.activebury.com/events/1318
URL:https://www.activebury.com/events/1318
END:VEVENT
END:VCALENDAR
