BEGIN:VCALENDAR
VERSION:2.0
PRODID:-//ActiveBury//Events//EN
CALSCALE:GREGORIAN
BEGIN:VEVENT
UID:event-1317@activebury.com
DTSTAMP:20260425T133954Z
SUMMARY:Mojos\, Mermaids\, Medicine\, and 400 Years of Black Women’s Magic with Dr. Lindsey Stewart
DTSTART:20260212T140000
DTEND:20260212T150000
LOCATION:Virtual
DESCRIPTION:This event is in the "Ages 18+" group 2:00pm–3:00pm Ages 18+ Virtual Virtual Event This event is in the "Ages 18+" group Feb 12 2026 Thu Mojos\, Mermaids\, Medicine\, and 400 Years of Black Women’s Magic with Dr. Lindsey Stewart 2:00pm–3:00pm Virtual Please note you are looking at an event that has already happened. Virtual Ages 18+ Book Discussion \, Guest Speaker or Performance \, Virtual Author Talk Feminist philosopher Dr.\nMore info: https://www.wicomicolibrary.org/event/mojos-mermaids-medicine-and-400-years-black-womens-magic-dr-lindsey-stewart-23318\nActiveBury: https://www.activebury.com/events/1317
URL:https://www.activebury.com/events/1317
END:VEVENT
END:VCALENDAR
