BEGIN:VCALENDAR
VERSION:2.0
PRODID:-//ActiveBury//Events//EN
CALSCALE:GREGORIAN
BEGIN:VEVENT
UID:event-1316@activebury.com
DTSTAMP:20260425T133941Z
SUMMARY:Swashbuckling Heroines and High Seas Adventures with Novelist Vanessa Riley
DTSTART:20260205T190000
DTEND:20260205T200000
LOCATION:Virtual
DESCRIPTION:This event is in the "Ages 18+" group 7:00pm–8:00pm Ages 18+ Virtual Virtual Event This event is in the "Ages 18+" group Feb 5 2026 Thu Swashbuckling Heroines and High Seas Adventures with Novelist Vanessa Riley 7:00pm–8:00pm Virtual Please note you are looking at an event that has already happened. Virtual Ages 18+ Book Discussion \, Guest Speaker or Performance \, Virtual Author Talk Join us for an unforgettable experience as we chat online with Vanessa Riley about her newest book\, Fire Sword and Sea \, based on the folk story of the female pirate Jacquotte Delahaye.\nMore info: https://www.wicomicolibrary.org/event/swashbuckling-heroines-and-high-seas-adventures-novelist-vanessa-riley-23317\nActiveBury: https://www.activebury.com/events/1316
URL:https://www.activebury.com/events/1316
END:VEVENT
END:VCALENDAR
