BEGIN:VCALENDAR
VERSION:2.0
PRODID:-//ActiveBury//Events//EN
CALSCALE:GREGORIAN
BEGIN:VEVENT
UID:event-13@activebury.com
DTSTAMP:20260425T133254Z
SUMMARY:Babies First Rave
DTSTART:20260105T110000
DTEND:20260105T113000
LOCATION:Centre Branch
DESCRIPTION:This event is in the "Ages 0-5" group 11:00am–11:30am Ages 0-5 Centre Branch Closed Registration Available This event is in the "Ages 0-5" group Jan 5 2026 Mon Babies First Rave 11:00am–11:30am Centre Branch Closed Please note you are looking at an event that has already happened. Centre Branch The Storybook Room Ages 0-5 Other \, Special Events Registration Available Embrace the new year with a new experience for your little one! Babies First Rave is meant to be a light extravaganza with neon lights and fun music for the little ones to interact with! (s) Attending Children Children under 8 must be monitored by a guardian who is at least 13 years old to assure the safety and behavior of that child. Children ages 8 and older may visit the library independently provided they are able to care\nMore info: https://www.wicomicolibrary.org/event/babies-first-rave-21642\nActiveBury: https://www.activebury.com/events/13
URL:https://www.activebury.com/events/13
END:VEVENT
END:VCALENDAR
