BEGIN:VCALENDAR
VERSION:2.0
PRODID:-//ActiveBury//Events//EN
CALSCALE:GREGORIAN
BEGIN:VEVENT
UID:event-1265@activebury.com
DTSTAMP:20260425T133904Z
SUMMARY:Cambridge Classic Powerboat Races 2026
DTSTART:20260523T100000
DTEND:20260523T170000
DESCRIPTION:The country's longest-running powerboat races happen right here in Dorchester County! This will be the 114th Cambridge Classic Powerboat Regatta on the Choptank River. About 60 boats are expected to be on hand to create an exciting two days of racing. Admission is FREE with a $5 a day donation for parking. Kid's Zone\, food\, and drinks will be available.\n\nThe races happen on Hambrooks Bay off the Choptank River in Cambridge\, Maryland. Watch on land on bleachers at Gerry Boyle Park at Great Marsh. Spectators can also watch the Cambridge Classic from their own boats on the water. The fleet will raft at Rooster Point. A no-wake zone will be established from Howell Point to the Choptank River Bridge.\nMore info: https://cpbra.com/\nActiveBury: https://www.activebury.com/events/1265
URL:https://www.activebury.com/events/1265
END:VEVENT
END:VCALENDAR
