BEGIN:VCALENDAR
VERSION:2.0
PRODID:-//ActiveBury//Events//EN
CALSCALE:GREGORIAN
BEGIN:VEVENT
UID:event-1264@activebury.com
DTSTAMP:20260425T134419Z
SUMMARY:Car Show at Johnny’s Tavern
DTSTART:20260411T090000
DTEND:20260411T160000
LOCATION:39 Main St East New Market \, MD 21631
DESCRIPTION:Johnny's Tavern hosts its 11th annual Car Show. Registration opens at 9am. $20 per vehicle. Awards at 3pm. Plus DJ Chuckie Love and live music by Hot Dog Gravy Band\, 12-4pm.\nMore info: https://heroeshaven.org/events/carshow2025/\nActiveBury: https://www.activebury.com/events/1264
URL:https://www.activebury.com/events/1264
END:VEVENT
END:VCALENDAR
