BEGIN:VCALENDAR
VERSION:2.0
PRODID:-//ActiveBury//Events//EN
CALSCALE:GREGORIAN
BEGIN:VEVENT
UID:event-1263@activebury.com
DTSTAMP:20260425T133323Z
SUMMARY:Tea & Tapas
DTSTART:20260307T110000
DTEND:20260307T110000
LOCATION:411 Dorchester Ave Cambridge \, MD 21613
DESCRIPTION:More info: https://www.facebook.com/events/1660797838238096/\nActiveBury: https://www.activebury.com/events/1263
URL:https://www.activebury.com/events/1263
END:VEVENT
END:VCALENDAR
