BEGIN:VCALENDAR
VERSION:2.0
PRODID:-//ActiveBury//Events//EN
CALSCALE:GREGORIAN
BEGIN:VEVENT
UID:event-1262@activebury.com
DTSTAMP:20260425T134536Z
SUMMARY:Skipjack Nathan New Volunteer Meet n Greet
DTSTART:20260314T100000
DTEND:20260314T120000
DESCRIPTION:More info: https://www.facebook.com/events/931536309573151/\nActiveBury: https://www.activebury.com/events/1262
URL:https://www.activebury.com/events/1262
END:VEVENT
END:VCALENDAR
