BEGIN:VCALENDAR
VERSION:2.0
PRODID:-//ActiveBury//Events//EN
CALSCALE:GREGORIAN
BEGIN:VEVENT
UID:event-1259@activebury.com
DTSTAMP:20260425T133958Z
SUMMARY:National Outdoor Show
DTSTART:20260227T170000
DTEND:20260227T230000
LOCATION:3485 Golden Hill Rd Church Creek \, MD 21622
DESCRIPTION:You are now in Muskrat Country: the heartland of sportsmen\, trappers\, watermen and wildlife! For 79 years\, the National Outdoor Show has been proud to show you the best that comes from our boot-sucking marshes and the flowing water that surrounds them. Most of all\, we want to share the unique spirit and character of our hard working people\, who keep one foot in a technologically savvy world and the other stuck deep in our traditional old school ways.\n\nThe two-day event ranges from pageants to name Miss Outdoors and Little Miss and Mister Outdoors\, to world championship muskrat skinning. Plus lots of contests – log sawing\; duck\, goose\, and turkey calling\; trap setting\; raccoon skinning\; oyster shucking\, and more. Plus game cooking demo\, K-9 demo\, kids' oyster race\, kids' crafts\, and more.\n\nYou also have the opportunity to sample local muskrat prepared the traditional way on Saturday while supplies last.\n\nDuring your visit to the Outdoor Show we hope that you learn about this area in much the same way as our first settlers did when they discovered the Indians who were willing to share their knowledge of trapping\, skinning\, fur dealing\, hunting\, fishing\, crabbing and oystering. As you view the exhibits\, sample the food\, and observe the enthusiasm of the people involved in the events\, we hope you will gain an appreciation for the true spirit and character of Dorchester County.\n\nSee more and the full schedule at nationaloutdoorshow.org.\nMore info: https://nationaloutdoorshow.org/\nActiveBury: https://www.activebury.com/events/1259
URL:https://www.activebury.com/events/1259
END:VEVENT
END:VCALENDAR
