BEGIN:VCALENDAR
VERSION:2.0
PRODID:-//ActiveBury//Events//EN
CALSCALE:GREGORIAN
BEGIN:VEVENT
UID:event-1258@activebury.com
DTSTAMP:20260425T134024Z
SUMMARY:Legacy Reconnected: Maryland-Liberia Sister Relationship
DTSTART:20260228T140000
DTEND:20260228T160000
LOCATION:425 High St\, Cambridge\, MD 21613\, USA \,
DESCRIPTION:Join in for the announcement: A Sister State/County/City relationship is being forged between Maryland (with special focus on Cambridge and Dorchester County) and Liberia. This special Maryland 250 event celebrates deep historical connections—including that of Cambridge native Stephen Allen Benson\, who became the second President of Liberia—and marks a new chapter in cultural diplomacy\, shared heritage\, and global bridge-building. Hosted by Eastern Shore Network for Change. At Waugh Chapel United Methodist Church\, 425 High St.\, Cambridge\, MD. Free\, but please register to attend at https://www.eventbrite.com/e/legacy-reconnected-maryland-liberia-sister-relationship-announcement-tickets-1982239601007?aff=ebdsshios\nMore info: https://www.esnccambridgemd.com/calender\nActiveBury: https://www.activebury.com/events/1258
URL:https://www.activebury.com/events/1258
END:VEVENT
END:VCALENDAR
