BEGIN:VCALENDAR
VERSION:2.0
PRODID:-//ActiveBury//Events//EN
CALSCALE:GREGORIAN
BEGIN:VEVENT
UID:event-1257@activebury.com
DTSTAMP:20260425T134010Z
SUMMARY:Sunset Park Concerts
DTSTART;VALUE=DATE:20260709
DTEND;VALUE=DATE:20260828
LOCATION:Sunset Park | S. Division Street - Ocean City\, MD\, 21842
DESCRIPTION:Join us for unforgettable evenings of music and sunset views at Sunset Park Party Nights! From 7pm to 9pm\, enjoy an epic free concert that's sure to...\nMore info: https://www.ococean.com/event/sunset-park-concerts/2610/\nActiveBury: https://www.activebury.com/events/1257
URL:https://www.activebury.com/events/1257
END:VEVENT
END:VCALENDAR
