BEGIN:VCALENDAR
VERSION:2.0
PRODID:-//ActiveBury//Events//EN
CALSCALE:GREGORIAN
BEGIN:VEVENT
UID:event-1256@activebury.com
DTSTAMP:20260425T133308Z
SUMMARY:July 4th Fireworks
DTSTART;VALUE=DATE:20260704
DTEND;VALUE=DATE:20260705
LOCATION:DOWNTOWN: N. Division St. Beach & UPTOWN: Northside Park\, 125th St.
DESCRIPTION:Celebrate the United States' 250th Anniversary with us this year! Join us at two locations\, N. Division Street and Northside Park\, for the 4th of July...\nMore info: https://www.ococean.com/event/july-4th-fireworks/2611/\nActiveBury: https://www.activebury.com/events/1256
URL:https://www.activebury.com/events/1256
END:VEVENT
END:VCALENDAR
