BEGIN:VCALENDAR
VERSION:2.0
PRODID:-//ActiveBury//Events//EN
CALSCALE:GREGORIAN
BEGIN:VEVENT
UID:event-1255@activebury.com
DTSTAMP:20260425T133942Z
SUMMARY:Christmas in July
DTSTART;VALUE=DATE:20260725
DTEND;VALUE=DATE:20260726
LOCATION:Fish Tales | 2107 Herring Way - Ocean City\, MD\, 21842
DESCRIPTION:Come and see our summer Winter Wonderland! Our complex will be completely decorated head to toe with Christmas! Santa will arrive via our Cruisin'...\nMore info: https://www.ococean.com/event/christmas-in-july/2256/\nActiveBury: https://www.activebury.com/events/1255
URL:https://www.activebury.com/events/1255
END:VEVENT
END:VCALENDAR
