BEGIN:VCALENDAR
VERSION:2.0
PRODID:-//ActiveBury//Events//EN
CALSCALE:GREGORIAN
BEGIN:VEVENT
UID:event-1254@activebury.com
DTSTAMP:20260425T183456Z
SUMMARY:Sundaes In The Park With Fireworks
DTSTART;VALUE=DATE:20260607
DTEND;VALUE=DATE:20260831
LOCATION:Northside Park | 125th Street - Ocean City\, MD\, 21842
DESCRIPTION:Looking for a rocking way to spend your Sunday evenings? Head over to Northside Park\, where the tunes are rockin' and the vibes are cool! It's the...\nMore info: https://www.ococean.com/event/sundaes-in-the-park-with-fireworks/2609/\nActiveBury: https://www.activebury.com/events/1254
URL:https://www.activebury.com/events/1254
END:VEVENT
END:VCALENDAR
