BEGIN:VCALENDAR
VERSION:2.0
PRODID:-//ActiveBury//Events//EN
CALSCALE:GREGORIAN
BEGIN:VEVENT
UID:event-1253@activebury.com
DTSTAMP:20260425T133901Z
SUMMARY:Sand Duels Beach Soccer Challenge Series
DTSTART;VALUE=DATE:20260606
DTEND;VALUE=DATE:20260726
DESCRIPTION:The 2026 Sand Duels™ Beach Soccer\, is a 5-on-5 soccer tournament for youth aged 8 though 18 and Adults with divisions based on age\, gender\, and...\nMore info: https://www.ococean.com/event/sand-duels-beach-soccer-challenge-series/2475/\nActiveBury: https://www.activebury.com/events/1253
URL:https://www.activebury.com/events/1253
END:VEVENT
END:VCALENDAR
