BEGIN:VCALENDAR
VERSION:2.0
PRODID:-//ActiveBury//Events//EN
CALSCALE:GREGORIAN
BEGIN:VEVENT
UID:event-1252@activebury.com
DTSTAMP:20260425T153443Z
SUMMARY:OC Air Show
DTSTART;VALUE=DATE:20260613
DTEND;VALUE=DATE:20260615
LOCATION:13th-17th St. Beach (Drop Zone) | Ocean City\, MD\, 21842
DESCRIPTION:The OC Air Show returns on June 13th & 14th in Ocean City\, Maryland! Head to the beach for a weekend of sky-high excitement. This year's show will...\nMore info: https://www.ococean.com/event/oc-air-show/2627/\nActiveBury: https://www.activebury.com/events/1252
URL:https://www.activebury.com/events/1252
END:VEVENT
END:VCALENDAR
