BEGIN:VCALENDAR
VERSION:2.0
PRODID:-//ActiveBury//Events//EN
CALSCALE:GREGORIAN
BEGIN:VEVENT
UID:event-1251@activebury.com
DTSTAMP:20260425T133432Z
SUMMARY:Kid's Carnival
DTSTART;VALUE=DATE:20260611
DTEND;VALUE=DATE:20260612
LOCATION:Fish Tales | 2107 Herring Way - Ocean City\, MD\, 21842
DESCRIPTION:Kid's Carnival is our one day event for kids of all ages! Come for a fun day after the last day of school! Kids will have fun playing on moon bounces\,...\nMore info: https://www.ococean.com/event/kids-carnival/1896/\nActiveBury: https://www.activebury.com/events/1251
URL:https://www.activebury.com/events/1251
END:VEVENT
END:VCALENDAR
