BEGIN:VCALENDAR
VERSION:2.0
PRODID:-//ActiveBury//Events//EN
CALSCALE:GREGORIAN
BEGIN:VEVENT
UID:event-1250@activebury.com
DTSTAMP:20260425T133415Z
SUMMARY:Grad Week Activities
DTSTART;VALUE=DATE:20260602
DTEND;VALUE=DATE:20260612
LOCATION:Northside Park | 200 125th St - Ocean City\, MD\, 21842
DESCRIPTION:Celebrate graduation at the beach with FREE Grad Week activities. On Tuesdays\, shred at the Ocean Bowl Skate Park. On Wednesdays\, join in on the...\nMore info: https://www.ococean.com/event/grad-week-activities/2620/\nActiveBury: https://www.activebury.com/events/1250
URL:https://www.activebury.com/events/1250
END:VEVENT
END:VCALENDAR
