BEGIN:VCALENDAR
VERSION:2.0
PRODID:-//ActiveBury//Events//EN
CALSCALE:GREGORIAN
BEGIN:VEVENT
UID:event-1249@activebury.com
DTSTAMP:20260425T133822Z
SUMMARY:Spring Family Movie Nights in the Park
DTSTART;VALUE=DATE:20260515
DTEND;VALUE=DATE:20260523
LOCATION:Northside Park | 202 4th St - Ocean City\, MD\, 21842
DESCRIPTION:Join Ocean City Recreation & Parks for Spring Movie Nights in the Park\, where you can spread out a blanket\, relax under the open sky\, and enjoy a...\nMore info: https://www.ococean.com/event/spring-family-movie-nights-in-the-park/2618/\nActiveBury: https://www.activebury.com/events/1249
URL:https://www.activebury.com/events/1249
END:VEVENT
END:VCALENDAR
