BEGIN:VCALENDAR
VERSION:2.0
PRODID:-//ActiveBury//Events//EN
CALSCALE:GREGORIAN
BEGIN:VEVENT
UID:event-1248@activebury.com
DTSTAMP:20260425T133413Z
SUMMARY:Ocean City Jeep Week
DTSTART;VALUE=DATE:20260528
DTEND;VALUE=DATE:20260601
LOCATION:Inlet Park | 1401 Atlantic Avenue - Ocean City\, MD\, 21842
DESCRIPTION:Ocean City Jeep Week held at the Inlet Parking Lot May 28-31\, 2026. Jeep Parades daily\, Sand Obstacle Course on the Beach 3 times a day\, Beach...\nMore info: https://www.ococean.com/event/ocean-city-jeep-week/2622/\nActiveBury: https://www.activebury.com/events/1248
URL:https://www.activebury.com/events/1248
END:VEVENT
END:VCALENDAR
