BEGIN:VCALENDAR
VERSION:2.0
PRODID:-//ActiveBury//Events//EN
CALSCALE:GREGORIAN
BEGIN:VEVENT
UID:event-1247@activebury.com
DTSTAMP:20260425T133947Z
SUMMARY:Mid-Atlantic Symphony &#8211\; Shostakovich’s 9th
DTSTART;VALUE=DATE:20260510
DTEND;VALUE=DATE:20260511
LOCATION:Ocean City Performing Arts Center | 4001 Coastal Hwy Convention Center - Ocean City\, MD\, 21801
DESCRIPTION:PURCHASE TICKETS Violin Concerto No. 5\, Wolfgang Amadeus Mozart Romance for Violin and Orchestra\, Antonín Dvořák Symphony No. 9\, Dmitri Shostakovich...\nMore info: https://www.ococean.com/event/mid-atlantic-symphony-%26%238211%3b-shostakovich%e2%80%99s-9th/2441/\nActiveBury: https://www.activebury.com/events/1247
URL:https://www.activebury.com/events/1247
END:VEVENT
END:VCALENDAR
