BEGIN:VCALENDAR
VERSION:2.0
PRODID:-//ActiveBury//Events//EN
CALSCALE:GREGORIAN
BEGIN:VEVENT
UID:event-1246@activebury.com
DTSTAMP:20260425T133946Z
SUMMARY:Memorial Day Celebrations
DTSTART;VALUE=DATE:20260523
DTEND;VALUE=DATE:20260526
LOCATION:Town of Ocean City | N Division St - Ocean City\, MD
DESCRIPTION:Join us during Memorial Day weekend! Details to come as the weekend approaches. Check back soon!\nMore info: https://www.ococean.com/event/memorial-day-celebrations/2612/\nActiveBury: https://www.activebury.com/events/1246
URL:https://www.activebury.com/events/1246
END:VEVENT
END:VCALENDAR
