BEGIN:VCALENDAR
VERSION:2.0
PRODID:-//ActiveBury//Events//EN
CALSCALE:GREGORIAN
BEGIN:VEVENT
UID:event-1245@activebury.com
DTSTAMP:20260425T133908Z
SUMMARY:Little Feat: The Last Farewell Tour
DTSTART;VALUE=DATE:20260526
DTEND;VALUE=DATE:20260527
LOCATION:Ocean City Performing Arts Center | 4001 Coastal Hwy Convention Center - Ocean City\, MD\, 21842
DESCRIPTION:Little Feat is bringing The Last Farewell Tour to the Ocean City Performing Arts Center on Tuesday\, May 26 at 7PM. After more than five decades on the...\nMore info: https://www.ococean.com/event/little-feat%3a-the-last-farewell-tour/2640/\nActiveBury: https://www.activebury.com/events/1245
URL:https://www.activebury.com/events/1245
END:VEVENT
END:VCALENDAR
