BEGIN:VCALENDAR
VERSION:2.0
PRODID:-//ActiveBury//Events//EN
CALSCALE:GREGORIAN
BEGIN:VEVENT
UID:event-1244@activebury.com
DTSTAMP:20260425T133905Z
SUMMARY:Kentucky Derby at Tales
DTSTART;VALUE=DATE:20260502
DTEND;VALUE=DATE:20260503
LOCATION:Fish Tales | 2107 Herring Way - Ocean City\, MD\, 21842
DESCRIPTION:🏇 Join Us for the Kentucky Derby at Fish Tales! 🏇 Get ready for a day of excitement\, fashion\, and fun! Come watch the Kentucky Derby with us at Fish...\nMore info: https://www.ococean.com/event/kentucky-derby-at-tales/2599/\nActiveBury: https://www.activebury.com/events/1244
URL:https://www.activebury.com/events/1244
END:VEVENT
END:VCALENDAR
