BEGIN:VCALENDAR
VERSION:2.0
PRODID:-//ActiveBury//Events//EN
CALSCALE:GREGORIAN
BEGIN:VEVENT
UID:event-1243@activebury.com
DTSTAMP:20260425T133955Z
SUMMARY:Who's Bad: The Michael Jackson Experience
DTSTART;VALUE=DATE:20260424
DTEND;VALUE=DATE:20260425
LOCATION:Ocean City Performing Arts Center | 4001 Coastal Hwy Convention Center - Ocean City\, MD\, 21801
DESCRIPTION:Who’s Bad delivers an electrifying celebration of the King of Pop\, performing Michael Jackson’s legendary hits with stunning precision\, powerhouse...\nMore info: https://www.ococean.com/event/whos-bad%3a-the-michael-jackson-experience/2554/\nActiveBury: https://www.activebury.com/events/1243
URL:https://www.activebury.com/events/1243
END:VEVENT
END:VCALENDAR
