BEGIN:VCALENDAR
VERSION:2.0
PRODID:-//ActiveBury//Events//EN
CALSCALE:GREGORIAN
BEGIN:VEVENT
UID:event-1241@activebury.com
DTSTAMP:20260425T133421Z
SUMMARY:The Fabulous Hubcaps
DTSTART;VALUE=DATE:20260423
DTEND;VALUE=DATE:20260424
LOCATION:Ocean City Performing Arts Center | 4001 Coastal Hwy Convention Center - Ocean City\, MD\, 21842
DESCRIPTION:What began 52 years ago as "Harvey Hubcap and the Do Ron Ron" has since evolved into The Fabulous Hubcaps\, one of the nation's most sought after show...\nMore info: https://www.ococean.com/event/the-fabulous-hubcaps/2653/\nActiveBury: https://www.activebury.com/events/1241
URL:https://www.activebury.com/events/1241
END:VEVENT
END:VCALENDAR
