BEGIN:VCALENDAR
VERSION:2.0
PRODID:-//ActiveBury//Events//EN
CALSCALE:GREGORIAN
BEGIN:VEVENT
UID:event-1240@activebury.com
DTSTAMP:20260425T133426Z
SUMMARY:The Fab Four: Help!
DTSTART;VALUE=DATE:20260430
DTEND;VALUE=DATE:20260501
LOCATION:Ocean City Performing Arts Center | 4001 Coastal Hwy Convention Center - Ocean City\, MD\, 21801
DESCRIPTION:Get ready for a spectacular night of music as The Fab Four brings their acclaimed Help! tribute show to the Ocean City Performing Arts Center....\nMore info: https://www.ococean.com/event/the-fab-four%3a-help!/2552/\nActiveBury: https://www.activebury.com/events/1240
URL:https://www.activebury.com/events/1240
END:VEVENT
END:VCALENDAR
