BEGIN:VCALENDAR
VERSION:2.0
PRODID:-//ActiveBury//Events//EN
CALSCALE:GREGORIAN
BEGIN:VEVENT
UID:event-1239@activebury.com
DTSTAMP:20260425T133303Z
SUMMARY:Springfest
DTSTART;VALUE=DATE:20260423
DTEND;VALUE=DATE:20260427
LOCATION:809 S Atlantic Ave\, Ocean City\, MD 21842 | 809 S Atlantic Ave - Ocean City\, MD\, 21842
DESCRIPTION:Greet the warmer weather with us at Springfest for its 35th year! It's four days full of tasty treats\, lively music\, and awesome handmade crafts. Join...\nMore info: https://www.ococean.com/event/springfest/2607/\nActiveBury: https://www.activebury.com/events/1239
URL:https://www.activebury.com/events/1239
END:VEVENT
END:VCALENDAR
