BEGIN:VCALENDAR
VERSION:2.0
PRODID:-//ActiveBury//Events//EN
CALSCALE:GREGORIAN
BEGIN:VEVENT
UID:event-1238@activebury.com
DTSTAMP:20260425T133955Z
SUMMARY:Premier Home & Artisan Expo
DTSTART;VALUE=DATE:20260403
DTEND;VALUE=DATE:20260405
LOCATION:Ocean City's Roland E. Powell Convention Center | 4001 Coastal Hwy - Ocean City\, MD\, 21842
DESCRIPTION:The Premier Home & Artisan Expo will be held in the R. E. Powell Ocean City Convention Center on Friday\, April 3rd and Saturday\, April 4th from...\nMore info: https://www.ococean.com/event/premier-home-%26-artisan-expo/2626/\nActiveBury: https://www.activebury.com/events/1238
URL:https://www.activebury.com/events/1238
END:VEVENT
END:VCALENDAR
