BEGIN:VCALENDAR
VERSION:2.0
PRODID:-//ActiveBury//Events//EN
CALSCALE:GREGORIAN
BEGIN:VEVENT
UID:event-1237@activebury.com
DTSTAMP:20260425T133254Z
SUMMARY:Opening Weekend & Easter Egg Hunt
DTSTART;VALUE=DATE:20260404
DTEND;VALUE=DATE:20260406
LOCATION:Trimper Rides | 700 South Atlantic Ave. - Ocean City\, MD\, 21842
DESCRIPTION:Trimper Rides Opening Weekend & Easter Egg Hunt! 🐰🌷 Join us at Trimper Rides as we kick off the 2026 season with a weekend full of family fun!...\nMore info: https://www.ococean.com/event/opening-weekend-%26-easter-egg-hunt/2656/\nActiveBury: https://www.activebury.com/events/1237
URL:https://www.activebury.com/events/1237
END:VEVENT
END:VCALENDAR
