BEGIN:VCALENDAR
VERSION:2.0
PRODID:-//ActiveBury//Events//EN
CALSCALE:GREGORIAN
BEGIN:VEVENT
UID:event-1236@activebury.com
DTSTAMP:20260425T133427Z
SUMMARY:Easter Kids Fun Fair
DTSTART;VALUE=DATE:20260403
DTEND;VALUE=DATE:20260405
LOCATION:Ocean City's Roland E. Powell Convention Center | 4001 Coastal Hwy - Ocean City\, MD\, 21842
DESCRIPTION:Continuous activities\, games\, contests\, and entertainment\, including Beanny the Easter Bunny\, Bluey. Easter Egg hunts\, juggling shows\, jelly bean...\nMore info: https://www.ococean.com/event/easter-kids-fun-fair/2625/\nActiveBury: https://www.activebury.com/events/1236
URL:https://www.activebury.com/events/1236
END:VEVENT
END:VCALENDAR
