BEGIN:VCALENDAR
VERSION:2.0
PRODID:-//ActiveBury//Events//EN
CALSCALE:GREGORIAN
BEGIN:VEVENT
UID:event-1235@activebury.com
DTSTAMP:20260425T133414Z
SUMMARY:Easter Bunny Egg Hunt
DTSTART;VALUE=DATE:20260404
DTEND;VALUE=DATE:20260405
LOCATION:Northside Park | 200 125th St - Ocean City\, MD\, 21842
DESCRIPTION:Kids\, Ages 2 – 10 and their families. Join the Easter Bunny in the hunt for eggs and treats! Advanced registration is encouraged as we accept a...\nMore info: https://www.ococean.com/event/easter-bunny-egg-hunt/2619/\nActiveBury: https://www.activebury.com/events/1235
URL:https://www.activebury.com/events/1235
END:VEVENT
END:VCALENDAR
